BEGIN:VCALENDAR
VERSION:2.0
BEGIN:VEVENT
DTSTART:20260923
DTEND:20260926
LOCATION:Kaunas; Lithuania
SUMMARY:The international scientific conference dedicated to the memory of Prof. Dr. Hermann Minkowski
URL:https://minkowskiconference.ktu.edu
END:VEVENT
END:VCALENDAR