BEGIN:VCALENDAR
VERSION:2.0
BEGIN:VEVENT
DTSTART:20260520
DTEND:20260521
LOCATION:Leicester; United Kingdom
SUMMARY:Ben Green's talk on Theorems of the 21st Century Seminar
URL:https://th21.le.ac.uk/
END:VEVENT
END:VCALENDAR