BEGIN:VCALENDAR
VERSION:2.0
BEGIN:VEVENT
DTSTART:20240707
DTEND:20240728
LOCATION:Park City, Utah; USA
SUMMARY:PCMI 2024 Research Topic: Motivic Homotopy
URL:https://www.ias.edu/pcmi
END:VEVENT
END:VCALENDAR